BEGIN:VCALENDAR
VERSION:2.0
PRODID:-//Hospiz Salzgitter gGmbH - ECPv6.15.20//NONSGML v1.0//EN
CALSCALE:GREGORIAN
METHOD:PUBLISH
X-ORIGINAL-URL:https://www.hospiz-salzgitter.de
X-WR-CALDESC:Veranstaltungen für Hospiz Salzgitter gGmbH
REFRESH-INTERVAL;VALUE=DURATION:PT1H
X-Robots-Tag:noindex
X-PUBLISHED-TTL:PT1H
BEGIN:VTIMEZONE
TZID:Europe/Berlin
BEGIN:DAYLIGHT
TZOFFSETFROM:+0100
TZOFFSETTO:+0200
TZNAME:CEST
DTSTART:20230326T010000
END:DAYLIGHT
BEGIN:STANDARD
TZOFFSETFROM:+0200
TZOFFSETTO:+0100
TZNAME:CET
DTSTART:20231029T010000
END:STANDARD
BEGIN:DAYLIGHT
TZOFFSETFROM:+0100
TZOFFSETTO:+0200
TZNAME:CEST
DTSTART:20240331T010000
END:DAYLIGHT
BEGIN:STANDARD
TZOFFSETFROM:+0200
TZOFFSETTO:+0100
TZNAME:CET
DTSTART:20241027T010000
END:STANDARD
BEGIN:DAYLIGHT
TZOFFSETFROM:+0100
TZOFFSETTO:+0200
TZNAME:CEST
DTSTART:20250330T010000
END:DAYLIGHT
BEGIN:STANDARD
TZOFFSETFROM:+0200
TZOFFSETTO:+0100
TZNAME:CET
DTSTART:20251026T010000
END:STANDARD
END:VTIMEZONE
BEGIN:VEVENT
DTSTART;TZID=Europe/Berlin:20240907T150000
DTEND;TZID=Europe/Berlin:20240907T170000
DTSTAMP:20260424T145950
CREATED:20180827T173246Z
LAST-MODIFIED:20240822T102444Z
UID:1851-1725721200-1725728400@www.hospiz-salzgitter.de
SUMMARY:"Ehemaligen Treff"
DESCRIPTION:Wenn Ihre Trauer schon etwas zurückliegt und Sie sich mit anderen Menschen austauschen möchten\, laden wir Sie herzlich in unser “Ehemaligen” Treff ein. In lockerer Atmosphäre können Sie bei Kaffee und Kuchen Ihre Erfahrungen teilen. \nJeden ersten Samstag im Monat\, 15 bis 17 Uhr\, im Hospiz Salzgitter.
URL:https://www.hospiz-salzgitter.de/termine/trauercafe-2-2018-10-04-2018-11-01-2020-11-05/
LOCATION:Hospiz Salzgitter\, Virchowstr. 6\, Salzgitter\, Niedersachsen\, 38259\, Deutschland
END:VEVENT
BEGIN:VEVENT
DTSTART;TZID=Europe/Berlin:20240926T153000
DTEND;TZID=Europe/Berlin:20240926T170000
DTSTAMP:20260424T145950
CREATED:20240909T120256Z
LAST-MODIFIED:20240909T120256Z
UID:5383-1727364600-1727370000@www.hospiz-salzgitter.de
SUMMARY:"Singkreis"
DESCRIPTION:
URL:https://www.hospiz-salzgitter.de/termine/singkreis-3/
END:VEVENT
END:VCALENDAR